BEGIN:VCALENDAR
VERSION:2.0
PRODID:gruene-buchholz.de
METHOD:PUBLISH
BEGIN:VTIMEZONE
TZID:Europe/Berlin
X-LIC-LOCATION:Europe/Berlin
BEGIN:DAYLIGHT
TZOFFSETFROM:+0100
TZOFFSETTO:+0200
TZNAME:CEST
DTSTART:19700329T020000
RRULE:FREQ=YEARLY;INTERVAL=1;BYDAY=-1SU;BYMONTH=3
END:DAYLIGHT
BEGIN:STANDARD
TZOFFSETFROM:+0200
TZOFFSETTO:+0100
TZNAME:CET
DTSTART:19701025T030000
RRULE:FREQ=YEARLY;INTERVAL=1;BYDAY=-1SU;BYMONTH=10
END:STANDARD
END:VTIMEZONE
BEGIN:VEVENT
UID:0318d6058a8f48d61a1c4669983c9c2b@gruene-buchholz.de
URL;VALUE=URI:https://gruene-buchholz.de/termine/buendnis-fuer-demokratie
 -buchholz-laedt-ein-mut-macher-birgit-lohmeyer-erzaehlt-von-jabel-rockt-d
 en-foerster/
LOCATION:Rathauskantine, Rathausplatz 1, 21244 Buchholz
SUMMARY:Bündnis für Demokratie Buchholz lädt ein: MUT Macher – Birgi
 t Lohmeyer erzählt von „Jabel rockt den Förster“
DESCRIPTION;ALTREP="data:text/html,":
CLASS:PUBLIC
DTSTART;TZID=Europe/Berlin:20260424T190000
DTEND;TZID=Europe/Berlin:20260424T210000
DTSTAMP:20260424T021219
END:VEVENT
BEGIN:VEVENT
UID:bdafbb647e899b45e1c2cd99aef4f32e@gruene-buchholz.de
URL;VALUE=URI:https://gruene-buchholz.de/termine/nabu-buchholz-laedt-ein-
 naturkundliche-fuehrung-durch-das-buesenbachtal/
LOCATION:Treffpunkt: Ecke Deilsbarg/, Weinzendorfer Straße, 21244 Buchho
 lz
SUMMARY:NABU Buchholz lädt ein: Amphibien hautnah – Ein Blick über di
 e Schulter eines Experten
DESCRIPTION;ALTREP="data:text/html,%0A%3Cp%20class%3D%22has-gray-backgrou
 nd-color%20has-background%22%3EDie%20spannende%20Welt%20der%20Amphibien-K
 artierung%20zusammen%20mit%20dem%20Biologen%20Michael%20J%C3%BCrgens%20er
 kunden.%20Wie%20erfasse%20ich%20die%20Verbreitung%20von%20Molchen%20und%2
 0Fr%C3%B6schen%2C%20wann%20kommt%20ein%20Unterwassermikrofon%20zum%20Eins
 atz%3F%20Kommt%20mit%20uns%20in%20den%20Stuvenwald%2C%20kontrolliert%20Mo
 lchfallen%2C%20bestimmt%20die%20Arten%2C%20dokumentiert%20die%20Tiere%20u
 nd%20erlebt%20Natur%20hautnah%20%E2%80%93%20%C3%BCber%20einen%202%20km%20
 langen%20Wanderweg%20zum%20Teich%21%20Treffpunkt%3A%20Buchholz-Steinbeck%
 2C%20Wenzendorfer%20Str.%20Ecke%20Deilsbarg%20Hier%20geht%20es%20zur%20Se
 ite%20des%20NABU%20Buchholz%20mit%20weiteren%20Terminen%20des%20%3Ca%20hr
 ef%3D%22https%3A%2F%2Fwww.nabu-buchholz.de%2Ftermine-nabu%2F%22%3EJahresp
 rogramms%3C%2Fa%3E%3C%2Fp%3E%0A":Die spannende Welt der Amphibien-Kartier
 ung zusammen mit dem Biologen Michael Jürgens erkunden. Wie erfasse ich 
 die Verbreitung von Molchen und Fröschen\, wann kommt ein Unterwassermik
 rofon zum Einsatz? Kommt mit uns in den Stuvenwald\, kontrolliert Molchfa
 llen\, bestimmt die Arten\, dokumentiert die Tiere und erlebt Natur hautn
 ah – über einen 2 km langen Wanderweg zum Teich! Treffpunkt: Buchholz-
 Steinbeck\, Wenzendorfer Str. Ecke Deilsbarg Hier geht es zur Seite des N
 ABU Buchholz mit weiteren Terminen des Jahresprogramms
CLASS:PUBLIC
DTSTART;TZID=Europe/Berlin:20260425T090000
DTEND;TZID=Europe/Berlin:20260425T110000
DTSTAMP:20260424T021219
END:VEVENT
BEGIN:VEVENT
UID:349d23cb354bf97bd87e1648f2e59e78@gruene-buchholz.de
URL;VALUE=URI:https://gruene-buchholz.de/termine/mitgliederversammlung-zu
 m-beschluss-des-kommunalwahlprogramms-2026/
LOCATION:Blau-Weiss Buchholz, Raum 1, Holzweg 6, Buchholz
SUMMARY:Mitgliederversammlung zum Beschluss des Kommunalwahlprogramms 202
 6
DESCRIPTION;ALTREP="data:text/html,%0A%3Cp%3EDer%20Beteiligungsprozess%20
 zur%20Erstellung%20unseres%20Kommunalwahlprogramms%202026%20endet%20auf%2
 0dieser%20Versammlung%20mit%20dem%20Beschluss%20%C3%BCber%20den%20vorgele
 gten%20Entwurf%20und%20die%20eingegangenen%20%C3%84nderungsantr%C3%A4ge.%
 3C%2Fp%3E%0A":Der Beteiligungsprozess zur Erstellung unseres Kommunalwahl
 programms 2026 endet auf dieser Versammlung mit dem Beschluss über den v
 orgelegten Entwurf und die eingegangenen Änderungsanträge.
CLASS:PUBLIC
DTSTART;TZID=Europe/Berlin:20260428T190000
DTEND;TZID=Europe/Berlin:20260428T220000
DTSTAMP:20260424T021219
END:VEVENT
BEGIN:VEVENT
UID:facbb51cf1f40b001a63740a8da4be80@gruene-buchholz.de
URL;VALUE=URI:https://gruene-buchholz.de/termine/fuehrung-durch-die-obstb
 au-versuchsanstalt-jork/
LOCATION:Obstbauversuchsanstalt Jork, Moorende 53, Jork
SUMMARY:Führung durch die Obstbau-Versuchsanstalt Jork
DESCRIPTION;ALTREP="data:text/html,%0A%3Cp%3EF%C3%BCr%20die%20Teilnahme%2
 0an%20dieser%20Veranstaltung%20bitte%20anmelden%20%28Mitglieder%20%C3%BCb
 er%20die%20versendete%20Umfrage%2C%20Nichtmitglieder%20%C3%BCber%20kontak
 t%28ad%29gruene-buchholz.de%3C%2Fp%3E%0A%0A%0A%0A%3Cp%3EDie%20F%C3%BChrun
 g%20dauert%201%2C5%20-%202%20Stunden%2C%20je%20nach%20Interesse.%20Die%20
 Kosten%20von%2090%20bzw.%20120%20Euro%20werden%20unter%20den%20Beteiligte
 n%20aufgeteilt.%3C%2Fp%3E%0A%0A%0A%0A%3Cp%3E%3Cstrong%3ETreffpunkt%20f%C3
 %BCr%20Fahrgemeinschaften%3A%2013%3A30%20am%20Bahnhof%20Holm-Seppensen%3B
 %20dort%20endet%20die%20Fahrt%20dann%20sp%C3%A4testens%20um%2017%3A30%20U
 hr.%3C%2Fstrong%3E%3C%2Fp%3E%0A%0A%0A%0A%3Cp%3E%3C%2Fp%3E%0A":Für die Te
 ilnahme an dieser Veranstaltung bitte anmelden (Mitglieder über die vers
 endete Umfrage\, Nichtmitglieder über kontakt(ad)gruene-buchholz.de\n\nD
 ie Führung dauert 1\,5 - 2 Stunden\, je nach Interesse. Die Kosten von 9
 0 bzw. 120 Euro werden unter den Beteiligten aufgeteilt.\n\nTreffpunkt f
 ür Fahrgemeinschaften: 13:30 am Bahnhof Holm-Seppensen\; dort endet die 
 Fahrt dann spätestens um 17:30 Uhr.
CLASS:PUBLIC
DTSTART;TZID=Europe/Berlin:20260429T143000
DTEND;TZID=Europe/Berlin:20260429T163000
DTSTAMP:20260424T021219
END:VEVENT
BEGIN:VEVENT
UID:14f8e424b43f6bf0ac5f62c7452999e7@gruene-buchholz.de
URL;VALUE=URI:https://gruene-buchholz.de/termine/klimaforum-laedt-ein-meh
 r-stechmuecken-durch-den-klimawandel/
LOCATION:Rathauskantine, Rathausplatz 1, Buchholz
SUMMARY:Klimaforum lädt ein: Gesundheit + Klimawandel – Folgen für ä
 ltere Menschen
DESCRIPTION;ALTREP="data:text/html,%0A%3Cp%3EDetails%20zu%20der%20Veranst
 altung%20findet%20ihr%20%3Ca%20href%3D%22https%3A%2F%2Fklimaforum.buchhol
 z.de%2Fde%2Ftermine%2F61-https-klimaforum-buchholz-de%22%3EHier%3C%2Fa%3E
 %3C%2Fp%3E%0A":Details zu der Veranstaltung findet ihr Hier
CLASS:PUBLIC
DTSTART;TZID=Europe/Berlin:20260429T190000
DTEND;TZID=Europe/Berlin:20260429T210000
DTSTAMP:20260424T021219
END:VEVENT
BEGIN:VEVENT
UID:65e163cc5bd539e01f4586a44874b140@gruene-buchholz.de
URL;VALUE=URI:https://gruene-buchholz.de/termine/sitzung-des-klimabeirats
 /
LOCATION:Rathauskantine, Rathausplatz 1, Buchholz
SUMMARY:Sitzung des Klimabeirats
DESCRIPTION;ALTREP="data:text/html,%0A%3Cp%3EDie%20Tagesordnung%20findet%
 20man%20%3Ca%20href%3D%22https%3A%2F%2Fklimaforum.buchholz.de%2Fde%2Fterm
 ine%2F55%22%3Ehier%3C%2Fa%3E%3C%2Fp%3E%0A":Die Tagesordnung findet man hi
 er
CLASS:PUBLIC
DTSTART;TZID=Europe/Berlin:20260504T190000
DTEND;TZID=Europe/Berlin:20260504T210000
DTSTAMP:20260424T021219
END:VEVENT
BEGIN:VEVENT
UID:86df5584cdfb1bb24782a267b771b32c@gruene-buchholz.de
URL;VALUE=URI:https://gruene-buchholz.de/termine/offenes-treffen-der-ener
 gie-ag/
LOCATION:Blau-Weiss-Buchholz, Raum 1 (hinter dem Lim's), Holzweg 6, Buchh
 olz
SUMMARY:Energie-Stammtisch
DESCRIPTION;ALTREP="data:text/html,%0A%3Cp%20class%3D%22has-gray-backgrou
 nd-color%20has-background%22%3EDieser%20Termin%20ist%20auch%20f%C3%BCr%20
 Nicht-Mitglieder%20offen.%20Wir%20wollen%20in%20einer%20Gruppe%20von%20In
 teressierten%20in%20regelm%C3%A4%C3%9Figen%20Treffen%20zu%20den%20Themen%
 20Balkon-Kraftwerk%2C%20W%C3%A4rmepumpe%2C%20Solarthermie%2C%20PV%2C%20D%
 C3%A4mmtechnik%2C%20E-Auto%2FWallbox%20diskutieren%20und%20Informationen%
 20austauschen.%3C%2Fp%3E%0A":Dieser Termin ist auch für Nicht-Mitglieder
  offen. Wir wollen in einer Gruppe von Interessierten in regelmäßigen T
 reffen zu den Themen Balkon-Kraftwerk\, Wärmepumpe\, Solarthermie\, PV\,
  Dämmtechnik\, E-Auto/Wallbox diskutieren und Informationen austauschen.
CLASS:PUBLIC
DTSTART;TZID=Europe/Berlin:20260521T190000
DTEND;TZID=Europe/Berlin:20260521T210000
DTSTAMP:20260424T021219
END:VEVENT
BEGIN:VEVENT
UID:115557b5c3bfde48de3bd03682d31c0a@gruene-buchholz.de
URL;VALUE=URI:https://gruene-buchholz.de/termine/ortsmitgliederversammlun
 g-2/
LOCATION:Blau-Weiss Buchholz, Raum 6 (UG), Holzweg 6, Buchholz
SUMMARY:Ortsmitgliederversammlung
DESCRIPTION;ALTREP="data:text/html,%0A%3Cp%3EDie%20Mitglieder%20erhalten%
 20eine%20Einladung%20mit%20Tagesordnung%2C%20Nichtmitglieder%20k%C3%B6nne
 n%20als%20Gast%20auf%20Anfrage%20teilnehmen%20%28kontakt%40gruene-buchhol
 z.de%29%3C%2Fp%3E%0A":Die Mitglieder erhalten eine Einladung mit Tagesord
 nung\, Nichtmitglieder können als Gast auf Anfrage teilnehmen (kontakt@g
 ruene-buchholz.de)
CLASS:PUBLIC
DTSTART;TZID=Europe/Berlin:20260527T190000
DTEND;TZID=Europe/Berlin:20260527T220000
DTSTAMP:20260424T021219
END:VEVENT
END:VCALENDAR