BEGIN:VCALENDAR
VERSION:2.0
PRODID:gruene-buchholz.de
METHOD:PUBLISH
BEGIN:VTIMEZONE
TZID:Europe/Berlin
X-LIC-LOCATION:Europe/Berlin
BEGIN:DAYLIGHT
TZOFFSETFROM:+0100
TZOFFSETTO:+0200
TZNAME:CEST
DTSTART:19700329T020000
RRULE:FREQ=YEARLY;INTERVAL=1;BYDAY=-1SU;BYMONTH=3
END:DAYLIGHT
BEGIN:STANDARD
TZOFFSETFROM:+0200
TZOFFSETTO:+0100
TZNAME:CET
DTSTART:19701025T030000
RRULE:FREQ=YEARLY;INTERVAL=1;BYDAY=-1SU;BYMONTH=10
END:STANDARD
END:VTIMEZONE
BEGIN:VEVENT
UID:6184bee0041dc60302c5a3997faecfd3@gruene-buchholz.de
URL;VALUE=URI:https://gruene-buchholz.de/termine/sitzung-des-klimabeirats
 -2/
LOCATION:Rathauskantine, Rathausplatz 1, Buchholz
SUMMARY:Sitzung des Klimabeirats
DESCRIPTION;ALTREP="data:text/html,%0A%3Cp%3ETagesordnung%20und%20Online%
 20Zugang%20werden%20auf%20der%20%3Ca%20href%3D%22https%3A%2F%2Fklimaforum
 .buchholz.de%2Fde%2Ftermine%22%3ESeite%20der%20Stadt%20Buchholz%3C%2Fa%3E
 %20ver%C3%B6ffentlicht%3C%2Fp%3E%0A":Tagesordnung und Online Zugang werde
 n auf der Seite der Stadt Buchholz veröffentlicht
CLASS:PUBLIC
DTSTART;TZID=Europe/Berlin:20251126T190000
DTEND;TZID=Europe/Berlin:20251126T210000
DTSTAMP:20260425T041040
END:VEVENT
END:VCALENDAR