BEGIN:VCALENDAR
VERSION:2.0
PRODID:gruene-buchholz.de
METHOD:PUBLISH
BEGIN:VTIMEZONE
TZID:Europe/Berlin
X-LIC-LOCATION:Europe/Berlin
BEGIN:DAYLIGHT
TZOFFSETFROM:+0100
TZOFFSETTO:+0200
TZNAME:CEST
DTSTART:19700329T020000
RRULE:FREQ=YEARLY;INTERVAL=1;BYDAY=-1SU;BYMONTH=3
END:DAYLIGHT
BEGIN:STANDARD
TZOFFSETFROM:+0200
TZOFFSETTO:+0100
TZNAME:CET
DTSTART:19701025T030000
RRULE:FREQ=YEARLY;INTERVAL=1;BYDAY=-1SU;BYMONTH=10
END:STANDARD
END:VTIMEZONE
BEGIN:VEVENT
UID:7f1fa3cb63481db03cf4be434a64dc59@gruene-buchholz.de
URL;VALUE=URI:https://gruene-buchholz.de/termine/podiumsdiskussion-energi
 ewende-fortsetzen/
LOCATION:Achat Hotel Buchholz, Lindenstraße 21, 21244 Buchholz
SUMMARY:Podiumsdiskussion: Energiewende fortsetzen
DESCRIPTION;ALTREP="data:text/html,%0A%3Cp%3E%F0%9F%8C%BF%20Energiewende%
 20jetzt%21%20Unsere%20Zukunft%20kann%20nicht%20warten%20%F0%9F%8C%8D%3C%2
 Fp%3E%0A%0A%0A%0A%3Cp%3E%F0%9F%8C%BF%20Wie%20kann%20die%20Energiewende%20
 konsequent%20weitergef%C3%BChrt%20werden%3F%3Cbr%3E%F0%9F%8C%BF%20Welche%
 20Herausforderungen%20und%20Chancen%20sind%20damit%20verbunden%3F%3C%2Fp%
 3E%0A%0A%0A%0A%3Cp%3ESei%20dabei%2C%20wenn%20Julia%20Verlinden%2C%20Mitgl
 ied%20des%20Bundestags%20und%20stellv.%20Fraktionsvorsitzende%20%2CBundes
 tagsfraktion%20der%20Gr%C3%BCnen%20und%20Frerk%20Meyer%2C%20Bundestagskan
 didat%20und%20Stadtrat%20in%20Buchholz%20mit%20dem%20Publikum%20%C3%BCber
 %20die%20Zukunft%20der%20Energieversorgung%20diskutieren.%3C%2Fp%3E%0A%0A
 %0A%0A%3Cp%3EDiskutiere%20mit%20und%20gestalte%20die%20Zukunft%20der%20En
 ergie%20mit%21%3C%2Fp%3E%0A%0A%0A%0A%3Cp%3E%3C%2Fp%3E%0A":🌿 Energiewen
 de jetzt! Unsere Zukunft kann nicht warten 🌍\n\n🌿 Wie kann die Ener
 giewende konsequent weitergeführt werden?🌿 Welche Herausforderungen u
 nd Chancen sind damit verbunden?\n\nSei dabei\, wenn Julia Verlinden\, Mi
 tglied des Bundestags und stellv. Fraktionsvorsitzende \,Bundestagsfrakti
 on der Grünen und Frerk Meyer\, Bundestagskandidat und Stadtrat in Buchh
 olz mit dem Publikum über die Zukunft der Energieversorgung diskutieren.
 \n\nDiskutiere mit und gestalte die Zukunft der Energie mit!
CLASS:PUBLIC
DTSTART;TZID=Europe/Berlin:20250218T193000
DTEND;TZID=Europe/Berlin:20250218T213000
DTSTAMP:20260423T031935
END:VEVENT
END:VCALENDAR